{"text_format":"1","workbook":"xlsx","n_sheets":1,"sheets":["Guajayvi"],"not_rendered":{"charts":0,"images":3,"macros":0,"external_links":7,"defined_names":0,"comments":0,"pivot_tables":0},"unopened":[],"bounds":{"document_bytes":16777216,"sheet_cells":100000,"rows_first":2000,"rows_last":500,"rows_between":2000,"halvings":0,"cell_chars":16384,"cell_head_chars":4096},"cells_cut":0,"cells_raw":0,"read":"whole","date_system":"1900"}

{"sheet":"Guajayvi","index":0,"n_rows":81,"n_cols":23,"rows_kept":81,"cut":false,"hidden":false,"merged":[[2,0,2,20],[3,0,3,20],[6,0,6,21],[7,0,7,21],[12,0,13,0],[12,1,13,1],[12,2,13,2],[12,3,13,3],[12,5,13,5],[12,6,13,6],[12,7,13,7],[12,8,13,8],[12,21,13,21],[4,2,4,5],[1,1,1,19],[82,21,82,22],[12,4,13,4],[12,15,13,15],[12,16,13,16],[12,17,13,17],[12,18,13,18],[12,19,13,19],[12,20,13,20],[12,9,13,9],[12,10,13,10],[12,11,13,11],[12,12,13,12],[12,13,13,13],[12,14,13,14]]}
[]
[null,"                                >> MUNICIPALIDAD DE GUAJAYVI <<  \n                            Departamento de San Pedro – Paraguay             \n                       Intendencia Municipal        "]
["SECRETARÍA GENERAL"]
["Departamento de Recursos Humanos"]
[]
[]
["RESUMEN ANUAL CORRESPONDIENTE AL EJERCICIO AÑO 2016 EN CUMPLIMIENTO DEL ART. 7 DE LA LEY  5189/2014"]
["Art. 7º. Todas las instituciones y dependencias citadas en el Art. 2º deberán publicar cada fin de ejercicio, un resumen total de ingresos de cada unos de los funcionarios incluyendo, los montos de remuneraciones básicas, adicionales, complementarias, otros gastos del personal y viáticos por cada funcionario o empleado, permanente, contratado o de elección popular. Estos resúmenes deben ser publicados a más tardar para el último día hábil del mes de enero de cada año.",null,null,null,null,null,null,null,null,null,null,null,null,null,null,null,null,null,null,null,null,null,"s"]
["Nivel",null,":30"]
["Departamento",null,":02 San Pedro"]
["OEE",null,": 24 MUNICIPALIDAD DE GUAJAYVI"]
[]
["Orden Nº","LÍNEA","C.I.C. Nº","NOMBRE (S)","APELLIDO (S)","CONCEPTO","DONOMICACIÓN","ENERO","FEBRERO","MARZO","ABRIL","MAYO","JUNIO","JULIO","AGOSTO","SEPTIEMBRE","OCTUBRE","NOVIEMBRE","DICIEMBRE","ACUMULADO A DICIEMBRE","AGUINALDO 2016","MONTO TOTAL"]
[]
[null,null,{"$f":"'[1]01 SICCA ENERO 2016.'!G2","v":3475268},{"$f":"'[1]01 SICCA ENERO 2016.'!H2","v":"OSVALDO"},{"$f":"'[1]01 SICCA ENERO 2016.'!I2","v":"GARCIA AREVALOS"},111,"SUELDO",{"$f":"'[1]01 SICCA ENERO 2016.'!O2","v":8500000},{"$f":"'[2]02 SICCA FEBRERO 2016.'!O2","v":8500000},{"$f":"I15","v":8500000},{"$f":"'[3]04 SICCA ABRIL 2016'!O2","v":8500000},{"$f":"'[4]05 SICCA MAYO 2016.'!O2","v":8500000},{"$f":"'[5]05 SICCA JUNIO 2016. 1'!O2","v":8500000},{"$f":"M15","v":8500000},{"$f":"M15","v":8500000},{"$f":"O15","v":8500000},{"$f":"P15","v":8500000},8500000,{"$f":"R15","v":8500000},{"$f":"SUM(H15:S15)","v":102000000},8500000,110500000]
[null,null,3475268,"OSVALDO","GARCIA AREVALOS",113,"GASTO DE REPRESENTACION",0,0,0,0,0,{"$f":"'[5]05 SICCA JUNIO 2016. 1'!O3","v":3700000},3700000,3700000,3700000,3700000,3700000,{"$f":"R16","v":3700000},{"$f":"H16+I16+J16+K16+L16+M16+N16+O16+P16+Q16+R16+S16","v":25900000},2158333,{"$f":"T16+U16","v":28058333}]
[null,null,{"$f":"'[1]01 SICCA ENERO 2016.'!G3","v":2442741},{"$f":"'[1]01 SICCA ENERO 2016.'!H3","v":"ARISTIDES RAMON"},{"$f":"'[1]01 SICCA ENERO 2016.'!I3","v":"ESTIGARRIBIA ROMERO"},111,"SUELDO",{"$f":"'[1]01 SICCA ENERO 2016.'!O3","v":2000000},{"$f":"'[2]02 SICCA FEBRERO 2016.'!O3","v":2000000},2000000,{"$f":"'[3]04 SICCA ABRIL 2016'!O3","v":0},{"$f":"'[4]05 SICCA MAYO 2016.'!O3","v":0},0,0,2000000,2000000,2000000,2000000,{"$f":"R17","v":2000000},{"$f":"H17+I17+J17+K17+L17+M17+N17+O17+P17+Q17+R17+S17","v":16000000},1333333,{"$f":"T17+U17","v":17333333}]
[null,null,{"$f":"'[1]01 SICCA ENERO 2016.'!G4","v":3393161},{"$f":"'[1]01 SICCA ENERO 2016.'!H4","v":"LOURDES MERCEDES"},{"$f":"'[1]01 SICCA ENERO 2016.'!I4","v":"SALINAS LOPEZ"},111,"SUELDO",{"$f":"'[1]01 SICCA ENERO 2016.'!O4","v":2000000},{"$f":"'[2]02 SICCA FEBRERO 2016.'!O4","v":2000000},2000000,{"$f":"'[3]04 SICCA ABRIL 2016'!O4","v":2000000},{"$f":"'[4]05 SICCA MAYO 2016.'!O4","v":2000000},2000000,2000000,2000000,2000000,2000000,2000000,{"$f":"R18","v":2000000},24000000,2000000,26000000]
[null,null,{"$f":"'[1]01 SICCA ENERO 2016.'!G5","v":4026177},{"$f":"'[1]01 SICCA ENERO 2016.'!H5","v":"SELVA SOLEDAD"},{"$f":"'[1]01 SICCA ENERO 2016.'!I5","v":"RODAS VILLALBA"},111,"SUELDO",{"$f":"'[1]01 SICCA ENERO 2016.'!O5","v":1300000},{"$f":"'[2]02 SICCA FEBRERO 2016.'!O5","v":1300000},1300000,{"$f":"'[3]04 SICCA ABRIL 2016'!O5","v":1300000},{"$f":"'[4]05 SICCA MAYO 2016.'!O5","v":1300000},1300000,1300000,1300000,1300000,1300000,1300000,{"$f":"R19","v":1300000},15600000,2983100,18583100]
[null,null,{"$f":"'[1]01 SICCA ENERO 2016.'!G6","v":3980415},{"$f":"'[1]01 SICCA ENERO 2016.'!H6","v":"DILIO HERNAN"},{"$f":"'[1]01 SICCA ENERO 2016.'!I6","v":"TRINIDAD QUIÃ‘ONEZ"},111,"SUELDO",{"$f":"'[1]01 SICCA ENERO 2016.'!O6","v":1300000},{"$f":"'[2]02 SICCA FEBRERO 2016.'!O6","v":1300000},1300000,{"$f":"'[3]04 SICCA ABRIL 2016'!O6","v":1300000},{"$f":"'[4]05 SICCA MAYO 2016.'!O6","v":1300000},{"$f":"'[5]05 SICCA JUNIO 2016. 1'!O6","v":1300000},1300000,1300000,1300000,1300000,1300000,{"$f":"R20","v":1300000},15600000,1300000,16900000]
[null,null,{"$f":"'[1]01 SICCA ENERO 2016.'!G7","v":4767673},{"$f":"'[1]01 SICCA ENERO 2016.'!H7","v":"LUZ MARICEL"},{"$f":"'[1]01 SICCA ENERO 2016.'!I7","v":"MIRANDA JARA"},111,"SUELDO",{"$f":"'[1]01 SICCA ENERO 2016.'!O7","v":1200000},{"$f":"'[2]02 SICCA FEBRERO 2016.'!O7","v":1200000},1200000,{"$f":"'[3]04 SICCA ABRIL 2016'!O7","v":1200000},{"$f":"'[4]05 SICCA MAYO 2016.'!O7","v":1200000},1200000,1200000,1200000,1200000,1200000,1200000,{"$f":"R21","v":1200000},14400000,1200000,15600000]
[null,null,{"$f":"'[1]01 SICCA ENERO 2016.'!G8","v":5271349},{"$f":"'[1]01 SICCA ENERO 2016.'!H8","v":"ZULLY CELESTE"},{"$f":"'[1]01 SICCA ENERO 2016.'!I8","v":"GONZALEZ DENIS"},111,"SUELDO",{"$f":"'[1]01 SICCA ENERO 2016.'!O8","v":1200000},{"$f":"'[2]02 SICCA FEBRERO 2016.'!O8","v":1200000},1200000,{"$f":"'[3]04 SICCA ABRIL 2016'!O8","v":1200000},{"$f":"'[4]05 SICCA MAYO 2016.'!O8","v":1200000},{"$f":"'[5]05 SICCA JUNIO 2016. 1'!O8","v":1200000},1200000,1200000,1200000,1200000,1200000,{"$f":"R22","v":1200000},14400000,2398400,16798400]
[null,null,{"$f":"'[1]01 SICCA ENERO 2016.'!G9","v":3592437},{"$f":"'[1]01 SICCA ENERO 2016.'!H9","v":"OSCAR "},{"$f":"'[1]01 SICCA ENERO 2016.'!I9","v":"GIMENEZ BENITEZ"},111,"SUELDO",{"$f":"'[1]01 SICCA ENERO 2016.'!O9","v":1300000},{"$f":"'[2]02 SICCA FEBRERO 2016.'!O9","v":1300000},1300000,{"$f":"'[3]04 SICCA ABRIL 2016'!O9","v":1300000},{"$f":"'[4]05 SICCA MAYO 2016.'!O9","v":1300000},1300000,1300000,1300000,1300000,1300000,1300000,{"$f":"R23","v":1300000},15600000,1300000,16900000]
[null,null,{"$f":"'[1]01 SICCA ENERO 2016.'!G10","v":3848192},{"$f":"'[1]01 SICCA ENERO 2016.'!H10","v":"MIRIAN"},{"$f":"'[1]01 SICCA ENERO 2016.'!I10","v":"ROLON MARTINEZ"},111,"SUELDO",{"$f":"'[1]01 SICCA ENERO 2016.'!O10","v":1200000},{"$f":"'[2]02 SICCA FEBRERO 2016.'!O10","v":1200000},1200000,{"$f":"'[3]04 SICCA ABRIL 2016'!O10","v":1200000},{"$f":"'[4]05 SICCA MAYO 2016.'!O10","v":1200000},1200000,1200000,1200000,1200000,1200000,1200000,{"$f":"R24","v":1200000},14400000,1200000,15600000]
[null,null,{"$f":"'[1]01 SICCA ENERO 2016.'!G11","v":3515963},{"$f":"'[1]01 SICCA ENERO 2016.'!H11","v":"HECTOR MILCIADES"},{"$f":"'[1]01 SICCA ENERO 2016.'!I11","v":"MARTINEZ RAMIREZ"},111,"SUELDO",{"$f":"'[1]01 SICCA ENERO 2016.'!O11","v":2000000},{"$f":"'[2]02 SICCA FEBRERO 2016.'!O11","v":2000000},2000000,{"$f":"'[3]04 SICCA ABRIL 2016'!O11","v":2000000},{"$f":"'[4]05 SICCA MAYO 2016.'!O11","v":2000000},2000000,2000000,2000000,2000000,2000000,2000000,{"$f":"R25","v":2000000},24000000,2000000,26000000]
[null,null,{"$f":"'[1]01 SICCA ENERO 2016.'!G12","v":4775694},{"$f":"'[1]01 SICCA ENERO 2016.'!H12","v":"DERLIS RAUL"},{"$f":"'[1]01 SICCA ENERO 2016.'!I12","v":"NUÃ‘EZ FERREIRA"},111,"SUELDO",{"$f":"'[1]01 SICCA ENERO 2016.'!O12","v":2500000},{"$f":"'[2]02 SICCA FEBRERO 2016.'!O12","v":2500000},2500000,{"$f":"'[3]04 SICCA ABRIL 2016'!O12","v":2500000},{"$f":"'[4]05 SICCA MAYO 2016.'!O12","v":2500000},2500000,2500000,2500000,2500000,2500000,2500000,{"$f":"R26","v":2500000},30000000,2500000,32500000]
[null,null,{"$f":"'[1]01 SICCA ENERO 2016.'!G13","v":6163275},{"$f":"'[1]01 SICCA ENERO 2016.'!H13","v":"MIRIAN ROSANA"},{"$f":"'[1]01 SICCA ENERO 2016.'!I13","v":"BENITEZ TRINIDAD"},144,"JORNALES",{"$f":"'[1]01 SICCA ENERO 2016.'!O13","v":1000000},{"$f":"'[2]02 SICCA FEBRERO 2016.'!O13","v":1000000},{"$f":"'[2]02 SICCA FEBRERO 2016.'!P13","v":1000000},{"$f":"'[3]04 SICCA ABRIL 2016'!O13","v":1000000},{"$f":"'[4]05 SICCA MAYO 2016.'!O13","v":1000000},1000000,1000000,1000000,1000000,1000000,1000000,{"$f":"R27","v":1000000},12000000,1000000,13000000]
[null,null,{"$f":"'[1]01 SICCA ENERO 2016.'!G14","v":3677196},{"$f":"'[1]01 SICCA ENERO 2016.'!H14","v":"REBECA "},{"$f":"'[1]01 SICCA ENERO 2016.'!I14","v":"GARCIA AREVALO"},144,"JORNALES",{"$f":"'[1]01 SICCA ENERO 2016.'!O14","v":2000000},{"$f":"'[2]02 SICCA FEBRERO 2016.'!O14","v":2000000},{"$f":"'[2]02 SICCA FEBRERO 2016.'!P14","v":2000000},{"$f":"'[3]04 SICCA ABRIL 2016'!O14","v":2000000},{"$f":"'[4]05 SICCA MAYO 2016.'!O14","v":2000000},2000000,2000000,2000000,2000000,2000000,2000000,{"$f":"R28","v":2000000},24000000,2000000,26000000]
[null,null,{"$f":"'[1]01 SICCA ENERO 2016.'!G15","v":5292249},{"$f":"'[1]01 SICCA ENERO 2016.'!H15","v":"CARLOS DAVID"},{"$f":"'[1]01 SICCA ENERO 2016.'!I15","v":"RIVAS LOPEZ"},144,"JORNALES",{"$f":"'[1]01 SICCA ENERO 2016.'!O15","v":1500000},{"$f":"'[2]02 SICCA FEBRERO 2016.'!O15","v":1500000},{"$f":"'[2]02 SICCA FEBRERO 2016.'!P15","v":1500000},{"$f":"'[3]04 SICCA ABRIL 2016'!O15","v":1500000},{"$f":"'[4]05 SICCA MAYO 2016.'!O15","v":1500000},1500000,1500000,1500000,1500000,1500000,1500000,{"$f":"R29","v":1500000},18000000,1500000,19500000]
[null,null,{"$f":"'[1]01 SICCA ENERO 2016.'!G16","v":4601493},{"$f":"'[1]01 SICCA ENERO 2016.'!H16","v":"SUSANA PAOLA"},{"$f":"'[1]01 SICCA ENERO 2016.'!I16","v":"PORTILLO ALEGRE"},144,"JORNALES",{"$f":"'[1]01 SICCA ENERO 2016.'!O16","v":1000000},{"$f":"'[2]02 SICCA FEBRERO 2016.'!O16","v":1000000},{"$f":"'[2]02 SICCA FEBRERO 2016.'!P16","v":1000000},{"$f":"'[3]04 SICCA ABRIL 2016'!O16","v":1000000},{"$f":"'[4]05 SICCA MAYO 2016.'!O16","v":1000000},1000000,1000000,1000000,1000000,1000000,1000000,{"$f":"R30","v":1000000},12000000,1000000,13000000]
[null,null,{"$f":"'[1]01 SICCA ENERO 2016.'!G17","v":3273644},{"$f":"'[1]01 SICCA ENERO 2016.'!H17","v":"OSCAR DARIO"},{"$f":"'[1]01 SICCA ENERO 2016.'!I17","v":"GIMENEZ PIÃ‘EIRO"},144,"JORNALES",{"$f":"'[1]01 SICCA ENERO 2016.'!O17","v":1000000},{"$f":"'[2]02 SICCA FEBRERO 2016.'!O17","v":1000000},{"$f":"'[2]02 SICCA FEBRERO 2016.'!P17","v":1000000},{"$f":"'[3]04 SICCA ABRIL 2016'!O17","v":1000000},{"$f":"'[4]05 SICCA MAYO 2016.'!O17","v":1000000},{"$f":"'[5]05 SICCA JUNIO 2016. 1'!O17","v":1000000},1000000,1000000,1000000,1000000,1000000,{"$f":"R31","v":1000000},12000000,1000000,13000000]
[null,null,{"$f":"'[1]01 SICCA ENERO 2016.'!G18","v":2148224},{"$f":"'[1]01 SICCA ENERO 2016.'!H18","v":"ANTOLINA "},{"$f":"'[1]01 SICCA ENERO 2016.'!I18","v":"BRITEZ DAVID"},144,"JORNALES",{"$f":"'[1]01 SICCA ENERO 2016.'!O18","v":800000},{"$f":"'[2]02 SICCA FEBRERO 2016.'!O18","v":800000},{"$f":"'[2]02 SICCA FEBRERO 2016.'!P18","v":800000},{"$f":"'[3]04 SICCA ABRIL 2016'!O18","v":800000},{"$f":"'[4]05 SICCA MAYO 2016.'!O18","v":800000},800000,800000,800000,800000,800000,800000,{"$f":"R32","v":800000},9600000,800000,10400000]
[null,null,{"$f":"'[1]01 SICCA ENERO 2016.'!G19","v":4221405},{"$f":"'[1]01 SICCA ENERO 2016.'!H19","v":"SUSANA "},{"$f":"'[1]01 SICCA ENERO 2016.'!I19","v":"DELVALLE CUENCA"},144,"JORNALES",{"$f":"'[1]01 SICCA ENERO 2016.'!O19","v":1000000},{"$f":"'[2]02 SICCA FEBRERO 2016.'!O19","v":1000000},{"$f":"'[2]02 SICCA FEBRERO 2016.'!P19","v":1000000},{"$f":"'[3]04 SICCA ABRIL 2016'!O19","v":1000000},{"$f":"'[4]05 SICCA MAYO 2016.'!O19","v":1000000},1000000,1000000,1000000,1000000,1000000,1000000,{"$f":"R33","v":1000000},12000000,1000000,13000000]
[null,null,{"$f":"'[1]01 SICCA ENERO 2016.'!G20","v":6075136},{"$f":"'[1]01 SICCA ENERO 2016.'!H20","v":"ELBA YOLANDA"},{"$f":"'[1]01 SICCA ENERO 2016.'!I20","v":"ACOSTA VILLAGRA"},144,"JORNALES",{"$f":"'[1]01 SICCA ENERO 2016.'!O20","v":1000000},{"$f":"'[2]02 SICCA FEBRERO 2016.'!O20","v":1000000},{"$f":"'[2]02 SICCA FEBRERO 2016.'!P20","v":1000000},{"$f":"'[3]04 SICCA ABRIL 2016'!O20","v":1000000},{"$f":"'[4]05 SICCA MAYO 2016.'!O20","v":1000000},{"$f":"'[5]05 SICCA JUNIO 2016. 1'!O20","v":1000000},1000000,1000000,1000000,1000000,1000000,{"$f":"R34","v":1000000},12000000,1000000,13000000]
[null,null,{"$f":"'[1]01 SICCA ENERO 2016.'!G21","v":2624504},{"$f":"'[1]01 SICCA ENERO 2016.'!H21","v":"VICTOR ANIBAL"},{"$f":"'[1]01 SICCA ENERO 2016.'!I21","v":"ZACHE GONZALEZ"},144,"JORNALES",{"$f":"'[1]01 SICCA ENERO 2016.'!O21","v":1800000},{"$f":"'[2]02 SICCA FEBRERO 2016.'!O21","v":1800000},{"$f":"'[2]02 SICCA FEBRERO 2016.'!P21","v":1800000},{"$f":"'[3]04 SICCA ABRIL 2016'!O21","v":1800000},{"$f":"'[4]05 SICCA MAYO 2016.'!O21","v":1800000},1800000,1800000,1800000,1800000,1800000,1800000,{"$f":"R35","v":1800000},21600000,1800000,23400000]
[null,null,{"$f":"'[1]01 SICCA ENERO 2016.'!G22","v":4209643},{"$f":"'[1]01 SICCA ENERO 2016.'!H22","v":"MARIO "},{"$f":"'[1]01 SICCA ENERO 2016.'!I22","v":"ORTIZ PALACIOS"},144,"JORNALES",{"$f":"'[1]01 SICCA ENERO 2016.'!O22","v":1000000},{"$f":"'[2]02 SICCA FEBRERO 2016.'!O22","v":1000000},{"$f":"'[2]02 SICCA FEBRERO 2016.'!P22","v":1000000},{"$f":"'[3]04 SICCA ABRIL 2016'!O22","v":1000000},{"$f":"'[4]05 SICCA MAYO 2016.'!O22","v":1000000},1000000,1000000,1000000,1000000,1000000,1000000,{"$f":"R36","v":1000000},12000000,1000000,13000000]
[null,null,{"$f":"'[1]01 SICCA ENERO 2016.'!G23","v":5304866},{"$f":"'[1]01 SICCA ENERO 2016.'!H23","v":"EUGENIA RAQUEL"},{"$f":"'[1]01 SICCA ENERO 2016.'!I23","v":"ACOSTA BENITEZ"},144,"JORNALES",{"$f":"'[1]01 SICCA ENERO 2016.'!O23","v":800000},{"$f":"'[2]02 SICCA FEBRERO 2016.'!O23","v":800000},{"$f":"'[2]02 SICCA FEBRERO 2016.'!P23","v":800000},{"$f":"'[3]04 SICCA ABRIL 2016'!O23","v":800000},{"$f":"'[4]05 SICCA MAYO 2016.'!O23","v":800000},800000,800000,800000,800000,800000,800000,{"$f":"R37","v":800000},9600000,800000,10400000]
[null,null,{"$f":"'[1]01 SICCA ENERO 2016.'!G24","v":4466554},{"$f":"'[1]01 SICCA ENERO 2016.'!H24","v":"FREDY"},{"$f":"'[1]01 SICCA ENERO 2016.'!I24","v":"CABALLERO BENITEZ"},112,"DIETAS",{"$f":"'[1]01 SICCA ENERO 2016.'!O24","v":1700000},{"$f":"'[2]02 SICCA FEBRERO 2016.'!O24","v":1700000},{"$f":"'[2]02 SICCA FEBRERO 2016.'!P24","v":1700000},{"$f":"'[3]04 SICCA ABRIL 2016'!O24","v":1700000},{"$f":"'[4]05 SICCA MAYO 2016.'!O24","v":1700000},1700000,1700000,1700000,1700000,1700000,1700000,{"$f":"R38","v":1700000},20400000,1700000,22100000]
[null,null,{"$f":"'[1]01 SICCA ENERO 2016.'!G25","v":4466554},{"$f":"'[1]01 SICCA ENERO 2016.'!H25","v":"FREDY"},{"$f":"'[1]01 SICCA ENERO 2016.'!I25","v":"CABALLERO BENITEZ"},113,"GASTO DE REPRESENTACION",{"$f":"'[1]01 SICCA ENERO 2016.'!O25","v":600000},{"$f":"'[2]02 SICCA FEBRERO 2016.'!O25","v":600000},{"$f":"'[2]02 SICCA FEBRERO 2016.'!P25","v":600000},{"$f":"'[3]04 SICCA ABRIL 2016'!O25","v":600000},{"$f":"'[4]05 SICCA MAYO 2016.'!O25","v":600000},600000,600000,600000,600000,600000,600000,{"$f":"R39","v":600000},7200000,600000,7800000]
[null,null,{"$f":"'[1]01 SICCA ENERO 2016.'!G26","v":2281707},{"$f":"'[1]01 SICCA ENERO 2016.'!H26","v":"FRANCISCO "},{"$f":"'[1]01 SICCA ENERO 2016.'!I26","v":"BOGADO ZARATE"},112,"DIETAS",{"$f":"'[1]01 SICCA ENERO 2016.'!O26","v":1700000},{"$f":"'[2]02 SICCA FEBRERO 2016.'!O26","v":1700000},{"$f":"'[2]02 SICCA FEBRERO 2016.'!P26","v":1700000},{"$f":"'[3]04 SICCA ABRIL 2016'!O26","v":1700000},1700000,1700000,1700000,1700000,1700000,1700000,1700000,{"$f":"R40","v":1700000},20400000,1700000,22100000]
[null,null,{"$f":"'[1]01 SICCA ENERO 2016.'!G27","v":2281707},{"$f":"'[1]01 SICCA ENERO 2016.'!H27","v":"FRANCISCO "},{"$f":"'[1]01 SICCA ENERO 2016.'!I27","v":"BOGADO ZARATE"},113,"GASTO DE REPRESENTACION",{"$f":"'[1]01 SICCA ENERO 2016.'!O27","v":600000},{"$f":"'[2]02 SICCA FEBRERO 2016.'!O27","v":600000},{"$f":"'[2]02 SICCA FEBRERO 2016.'!P27","v":600000},{"$f":"'[3]04 SICCA ABRIL 2016'!O27","v":600000},600000,600000,600000,600000,600000,600000,600000,{"$f":"R41","v":600000},7200000,600000,7800000]
[null,null,{"$f":"'[1]01 SICCA ENERO 2016.'!G28","v":2645675},{"$f":"'[1]01 SICCA ENERO 2016.'!H28","v":"LIDUVINO"},{"$f":"'[1]01 SICCA ENERO 2016.'!I28","v":"SOSA ZORRILLA"},112,"DIETAS",{"$f":"'[1]01 SICCA ENERO 2016.'!O28","v":1700000},{"$f":"'[2]02 SICCA FEBRERO 2016.'!O28","v":1700000},{"$f":"'[2]02 SICCA FEBRERO 2016.'!P28","v":1700000},{"$f":"'[3]04 SICCA ABRIL 2016'!O28","v":1700000},{"$f":"'[4]05 SICCA MAYO 2016.'!O28","v":1700000},1700000,1700000,1700000,1700000,1700000,1700000,{"$f":"R42","v":1700000},20400000,1700000,22100000]
[null,null,{"$f":"'[1]01 SICCA ENERO 2016.'!G29","v":2645675},{"$f":"'[1]01 SICCA ENERO 2016.'!H29","v":"LIDUVINO"},{"$f":"'[1]01 SICCA ENERO 2016.'!I29","v":"SOSA ZORRILLA"},113,"GASTO DE REPRESENTACION",{"$f":"'[1]01 SICCA ENERO 2016.'!O29","v":600000},{"$f":"'[2]02 SICCA FEBRERO 2016.'!O29","v":600000},{"$f":"'[2]02 SICCA FEBRERO 2016.'!P29","v":600000},{"$f":"'[3]04 SICCA ABRIL 2016'!O29","v":600000},{"$f":"'[4]05 SICCA MAYO 2016.'!O29","v":600000},600000,600000,600000,600000,600000,600000,{"$f":"R43","v":600000},7200000,600000,7800000]
[null,null,{"$f":"'[1]01 SICCA ENERO 2016.'!G30","v":2301604},{"$f":"'[1]01 SICCA ENERO 2016.'!H30","v":"DIONISIO"},{"$f":"'[1]01 SICCA ENERO 2016.'!I30","v":"BARRIOS"},112,"DIETAS",{"$f":"'[1]01 SICCA ENERO 2016.'!O30","v":1700000},{"$f":"'[2]02 SICCA FEBRERO 2016.'!O30","v":1700000},{"$f":"'[2]02 SICCA FEBRERO 2016.'!P30","v":1700000},{"$f":"'[3]04 SICCA ABRIL 2016'!O30","v":1700000},{"$f":"'[4]05 SICCA MAYO 2016.'!O30","v":1700000},1700000,1700000,1700000,1700000,1700000,1700000,{"$f":"R44","v":1700000},20400000,1700000,22100000]
[null,null,{"$f":"'[1]01 SICCA ENERO 2016.'!G31","v":2301604},{"$f":"'[1]01 SICCA ENERO 2016.'!H31","v":"DIONISIO"},{"$f":"'[1]01 SICCA ENERO 2016.'!I31","v":"BARRIOS"},113,"GASTO DE REPRESENTACION",{"$f":"'[1]01 SICCA ENERO 2016.'!O31","v":600000},{"$f":"'[2]02 SICCA FEBRERO 2016.'!O31","v":600000},{"$f":"'[2]02 SICCA FEBRERO 2016.'!P31","v":600000},{"$f":"'[3]04 SICCA ABRIL 2016'!O31","v":600000},{"$f":"'[4]05 SICCA MAYO 2016.'!O31","v":600000},600000,600000,600000,600000,600000,600000,{"$f":"R45","v":600000},7200000,600000,7800000]
[null,null,{"$f":"'[1]01 SICCA ENERO 2016.'!G32","v":3568238},{"$f":"'[1]01 SICCA ENERO 2016.'!H32","v":"JUANA MARIA"},{"$f":"'[1]01 SICCA ENERO 2016.'!I32","v":"DELVALLE CUENCA"},112,"DIETAS",{"$f":"'[1]01 SICCA ENERO 2016.'!O32","v":1700000},{"$f":"'[2]02 SICCA FEBRERO 2016.'!O32","v":1700000},{"$f":"'[2]02 SICCA FEBRERO 2016.'!P32","v":1700000},{"$f":"'[3]04 SICCA ABRIL 2016'!O32","v":1700000},{"$f":"'[4]05 SICCA MAYO 2016.'!O32","v":1700000},1700000,1700000,1700000,1700000,1700000,1700000,{"$f":"R46","v":1700000},20400000,1700000,22100000]
[null,null,{"$f":"'[1]01 SICCA ENERO 2016.'!G33","v":3568238},{"$f":"'[1]01 SICCA ENERO 2016.'!H33","v":"JUANA MARIA"},{"$f":"'[1]01 SICCA ENERO 2016.'!I33","v":"DELVALLE CUENCA"},113,"GASTO DE REPRESENTACION",{"$f":"'[1]01 SICCA ENERO 2016.'!O33","v":600000},{"$f":"'[2]02 SICCA FEBRERO 2016.'!O33","v":600000},{"$f":"'[2]02 SICCA FEBRERO 2016.'!P33","v":600000},{"$f":"'[3]04 SICCA ABRIL 2016'!O33","v":600000},{"$f":"'[4]05 SICCA MAYO 2016.'!O33","v":600000},600000,{"$f":"M47","v":600000},{"$f":"M47","v":600000},{"$f":"O47","v":600000},600000,{"$f":"Q47","v":600000},600000,7200000,600000,7800000]
[null,null,{"$f":"'[1]01 SICCA ENERO 2016.'!G34","v":1300428},{"$f":"'[1]01 SICCA ENERO 2016.'!H34","v":"FIDENCIO"},{"$f":"'[1]01 SICCA ENERO 2016.'!I34","v":"ROLON SOSA"},112,"DIETAS",{"$f":"'[1]01 SICCA ENERO 2016.'!O34","v":1700000},{"$f":"'[2]02 SICCA FEBRERO 2016.'!O34","v":1700000},{"$f":"'[2]02 SICCA FEBRERO 2016.'!P34","v":1700000},{"$f":"'[3]04 SICCA ABRIL 2016'!O34","v":1700000},{"$f":"'[4]05 SICCA MAYO 2016.'!O34","v":1700000},1700000,1700000,1700000,1700000,1700000,{"$f":"Q48","v":1700000},1700000,20400000,{"$f":"U38","v":1700000},22100000]
[null,null,{"$f":"'[1]01 SICCA ENERO 2016.'!G35","v":1300428},{"$f":"'[1]01 SICCA ENERO 2016.'!H35","v":"FIDENCIO"},{"$f":"'[1]01 SICCA ENERO 2016.'!I35","v":"ROLON SOSA"},113,"GASTO DE REPRESENTACION",{"$f":"'[1]01 SICCA ENERO 2016.'!O35","v":600000},{"$f":"'[2]02 SICCA FEBRERO 2016.'!O35","v":600000},{"$f":"'[2]02 SICCA FEBRERO 2016.'!P35","v":600000},{"$f":"'[3]04 SICCA ABRIL 2016'!O35","v":600000},{"$f":"'[4]05 SICCA MAYO 2016.'!O35","v":600000},600000,600000,600000,600000,600000,{"$f":"Q49","v":600000},600000,7200000,600000,7800000]
[null,null,{"$f":"'[1]01 SICCA ENERO 2016.'!G36","v":1868912},{"$f":"'[1]01 SICCA ENERO 2016.'!H36","v":"EULALIA"},{"$f":"'[1]01 SICCA ENERO 2016.'!I36","v":"BRITEZ DE ROMAN"},112,"DIETAS",{"$f":"'[1]01 SICCA ENERO 2016.'!O36","v":1700000},{"$f":"'[2]02 SICCA FEBRERO 2016.'!O36","v":1700000},{"$f":"'[2]02 SICCA FEBRERO 2016.'!P36","v":1700000},{"$f":"'[3]04 SICCA ABRIL 2016'!O36","v":1700000},{"$f":"'[4]05 SICCA MAYO 2016.'!O36","v":1700000},1700000,1700000,1700000,1700000,1700000,{"$f":"Q50","v":1700000},1700000,20400000,1700000,22100000]
[null,null,{"$f":"'[1]01 SICCA ENERO 2016.'!G37","v":1868912},{"$f":"'[1]01 SICCA ENERO 2016.'!H37","v":"EULALIA"},{"$f":"'[1]01 SICCA ENERO 2016.'!I37","v":"BRITEZ DE ROMAN"},113,"GASTO DE REPRESENTACION",{"$f":"'[1]01 SICCA ENERO 2016.'!O37","v":600000},{"$f":"'[2]02 SICCA FEBRERO 2016.'!O37","v":600000},{"$f":"'[2]02 SICCA FEBRERO 2016.'!P37","v":600000},{"$f":"'[3]04 SICCA ABRIL 2016'!O37","v":600000},{"$f":"'[4]05 SICCA MAYO 2016.'!O37","v":600000},600000,600000,600000,600000,600000,{"$f":"Q51","v":600000},600000,7200000,600000,7800000]
[null,null,{"$f":"'[1]01 SICCA ENERO 2016.'!G38","v":1371680},{"$f":"'[1]01 SICCA ENERO 2016.'!H38","v":"ELEUTERIO"},{"$f":"'[1]01 SICCA ENERO 2016.'!I38","v":"SALDIVAR BENITEZ"},112,"DIETAS",{"$f":"'[1]01 SICCA ENERO 2016.'!O38","v":1700000},{"$f":"'[2]02 SICCA FEBRERO 2016.'!O38","v":1700000},{"$f":"'[2]02 SICCA FEBRERO 2016.'!P38","v":1700000},{"$f":"'[3]04 SICCA ABRIL 2016'!O38","v":1700000},{"$f":"'[4]05 SICCA MAYO 2016.'!O38","v":1700000},1700000,1700000,1700000,1700000,1700000,{"$f":"Q52","v":1700000},1700000,20400000,1700000,22100000]
[null,null,{"$f":"'[1]01 SICCA ENERO 2016.'!G39","v":1371680},{"$f":"'[1]01 SICCA ENERO 2016.'!H39","v":"ELEUTERIO"},{"$f":"'[1]01 SICCA ENERO 2016.'!I39","v":"SALDIVAR BENITEZ"},113,"GASTO DE REPRESENTACION",{"$f":"'[1]01 SICCA ENERO 2016.'!O39","v":600000},{"$f":"'[2]02 SICCA FEBRERO 2016.'!O39","v":600000},{"$f":"'[2]02 SICCA FEBRERO 2016.'!P39","v":600000},{"$f":"'[3]04 SICCA ABRIL 2016'!O39","v":600000},{"$f":"'[4]05 SICCA MAYO 2016.'!O39","v":600000},600000,600000,600000,600000,600000,{"$f":"Q53","v":600000},600000,7200000,600000,7800000]
[null,null,{"$f":"'[1]01 SICCA ENERO 2016.'!G40","v":2405437},{"$f":"'[1]01 SICCA ENERO 2016.'!H40","v":"FELIPE"},{"$f":"'[1]01 SICCA ENERO 2016.'!I40","v":"CUENCA BURGOS"},112,"DIETAS",{"$f":"'[1]01 SICCA ENERO 2016.'!O40","v":1700000},{"$f":"'[2]02 SICCA FEBRERO 2016.'!O40","v":1700000},{"$f":"'[2]02 SICCA FEBRERO 2016.'!P40","v":1700000},{"$f":"'[3]04 SICCA ABRIL 2016'!O40","v":1700000},{"$f":"'[4]05 SICCA MAYO 2016.'!O40","v":1700000},1700000,1700000,1700000,1700000,1700000,{"$f":"Q54","v":1700000},1700000,20400000,1700000,22100000]
[null,null,{"$f":"'[1]01 SICCA ENERO 2016.'!G41","v":2405437},{"$f":"'[1]01 SICCA ENERO 2016.'!H41","v":"FELIPE"},{"$f":"'[1]01 SICCA ENERO 2016.'!I41","v":"CUENCA BURGOS"},113,"GASTO DE REPRESENTACION",{"$f":"'[1]01 SICCA ENERO 2016.'!O41","v":600000},{"$f":"'[2]02 SICCA FEBRERO 2016.'!O41","v":600000},{"$f":"'[2]02 SICCA FEBRERO 2016.'!P41","v":600000},{"$f":"'[3]04 SICCA ABRIL 2016'!O41","v":600000},{"$f":"'[4]05 SICCA MAYO 2016.'!O41","v":600000},600000,600000,600000,600000,600000,{"$f":"Q55","v":600000},600000,7200000,600000,7800000]
[null,null,{"$f":"'[1]01 SICCA ENERO 2016.'!G42","v":3816590},{"$f":"'[1]01 SICCA ENERO 2016.'!H42","v":"GREGORIO EVER"},{"$f":"'[1]01 SICCA ENERO 2016.'!I42","v":"TROCHE TOLEDO"},144,"JORNALES",{"$f":"'[1]01 SICCA ENERO 2016.'!O42","v":1300000},{"$f":"'[2]02 SICCA FEBRERO 2016.'!O42","v":1300000},{"$f":"'[2]02 SICCA FEBRERO 2016.'!P42","v":1300000},{"$f":"'[3]04 SICCA ABRIL 2016'!O42","v":1300000},{"$f":"'[4]05 SICCA MAYO 2016.'!O42","v":1300000},1300000,1300000,1300000,1300000,1300000,{"$f":"Q56","v":1300000},1300000,15600000,1300000,16900000]
[null,null,{"$f":"'[1]01 SICCA ENERO 2016.'!G43","v":3620894},{"$f":"'[1]01 SICCA ENERO 2016.'!H43","v":"LUIS"},{"$f":"'[1]01 SICCA ENERO 2016.'!I43","v":"VILLAR DIAZ"},144,"JORNALES",{"$f":"'[1]01 SICCA ENERO 2016.'!O43","v":1800000},{"$f":"'[2]02 SICCA FEBRERO 2016.'!O43","v":1800000},{"$f":"'[2]02 SICCA FEBRERO 2016.'!P43","v":1800000},{"$f":"'[3]04 SICCA ABRIL 2016'!O43","v":1800000},{"$f":"'[3]04 SICCA ABRIL 2016'!P43","v":1800000},1800000,1800000,1800000,1800000,1800000,{"$f":"Q57","v":1800000},1800000,21600000,1800000,23400000]
[null,null,{"$f":"'[1]01 SICCA ENERO 2016.'!G44","v":2495393},{"$f":"'[1]01 SICCA ENERO 2016.'!H44","v":"MIGUEL ANGEL"},{"$f":"'[1]01 SICCA ENERO 2016.'!I44","v":"GIMENEZ"},144,"JORNALES",{"$f":"'[1]01 SICCA ENERO 2016.'!O44","v":800000},{"$f":"'[2]02 SICCA FEBRERO 2016.'!O44","v":800000},{"$f":"'[2]02 SICCA FEBRERO 2016.'!P44","v":800000},800000,800000,800000,800000,800000,800000,800000,{"$f":"Q58","v":800000},800000,9600000,800000,10400000]
[null,null,{"$f":"'[6]12 SICCA Diciembre.'!G46","v":3366110},{"$f":"'[6]12 SICCA Diciembre.'!H46","v":"ISMAEL"},{"$f":"'[6]12 SICCA Diciembre.'!I46","v":"CANDIA GAMARRA"},144,"JORNALES",0,0,0,800000,800000,800000,800000,800000,800000,800000,{"$f":"Q59","v":800000},800000,{"$f":"H59+I59+J59+K59+L59+M59+N59+O59+P59+Q59+R59+S59","v":7200000},600000,{"$f":"T59+U59","v":7800000}]
[null,null,{"$f":"'[1]01 SICCA ENERO 2016.'!G45","v":3980347},{"$f":"'[1]01 SICCA ENERO 2016.'!H45","v":"VICTOR OSMAR"},{"$f":"'[1]01 SICCA ENERO 2016.'!I45","v":"FIGUEREDO MARTINEZ"},144,"JORNALES",{"$f":"'[1]01 SICCA ENERO 2016.'!O45","v":800000},{"$f":"'[2]02 SICCA FEBRERO 2016.'!O45","v":800000},{"$f":"'[2]02 SICCA FEBRERO 2016.'!P45","v":800000},0,0,0,0,0,0,0,{"$f":"Q60","v":0},0,2400000,200000,2600000]
[null,null,{"$f":"'[1]01 SICCA ENERO 2016.'!G46","v":3591115},{"$f":"'[1]01 SICCA ENERO 2016.'!H46","v":"GENARO"},{"$f":"'[1]01 SICCA ENERO 2016.'!I46","v":"OCAMPOS ESPINOLA"},144,"JORNALES",{"$f":"'[1]01 SICCA ENERO 2016.'!O46","v":800000},{"$f":"'[2]02 SICCA FEBRERO 2016.'!O46","v":800000},{"$f":"'[2]02 SICCA FEBRERO 2016.'!P46","v":800000},1200000,1200000,1200000,1200000,1200000,1200000,1200000,{"$f":"Q61","v":1200000},1200000,13200000,800000,14000000]
[null,null,{"$f":"'[1]01 SICCA ENERO 2016.'!G47","v":5196189},{"$f":"'[1]01 SICCA ENERO 2016.'!H47","v":"RIGOBERTO"},{"$f":"'[1]01 SICCA ENERO 2016.'!I47","v":"GONZALEZ "},144,"JORNALES",{"$f":"'[1]01 SICCA ENERO 2016.'!O47","v":800000},{"$f":"'[2]02 SICCA FEBRERO 2016.'!O47","v":800000},{"$f":"'[2]02 SICCA FEBRERO 2016.'!P47","v":800000},800000,800000,800000,800000,800000,800000,800000,{"$f":"Q62","v":800000},800000,9600000,800000,10400000]
[null,null,{"$f":"'[1]01 SICCA ENERO 2016.'!G48","v":4592435},{"$f":"'[1]01 SICCA ENERO 2016.'!H48","v":"ROBRIGO DANIEL"},{"$f":"'[1]01 SICCA ENERO 2016.'!I48","v":"MELGAREJO SORIA"},144,"JORNALES",{"$f":"'[1]01 SICCA ENERO 2016.'!O48","v":1100000},{"$f":"'[2]02 SICCA FEBRERO 2016.'!O48","v":1100000},{"$f":"'[2]02 SICCA FEBRERO 2016.'!P48","v":1100000},1100000,1100000,1100000,1100000,1100000,1100000,1100000,{"$f":"Q63","v":1100000},1100000,13200000,1100000,14300000]
[null,null,{"$f":"'[1]01 SICCA ENERO 2016.'!G49","v":4383142},{"$f":"'[1]01 SICCA ENERO 2016.'!H49","v":"PEDRO ANIBAL"},{"$f":"'[1]01 SICCA ENERO 2016.'!I49","v":"RECALDE DUARTE"},144,"JORNALES",{"$f":"'[1]01 SICCA ENERO 2016.'!O49","v":800000},{"$f":"'[2]02 SICCA FEBRERO 2016.'!O49","v":800000},{"$f":"'[2]02 SICCA FEBRERO 2016.'!P49","v":800000},0,0,0,0,0,0,0,{"$f":"Q64","v":0},0,2400000,200000,2600000]
[null,null,{"$f":"'[1]01 SICCA ENERO 2016.'!G50","v":5904507},{"$f":"'[1]01 SICCA ENERO 2016.'!H50","v":"JULIO CESAR"},{"$f":"'[1]01 SICCA ENERO 2016.'!I50","v":"ACOSTA BENITEZ"},144,"JORNALES",{"$f":"'[1]01 SICCA ENERO 2016.'!O50","v":800000},{"$f":"'[2]02 SICCA FEBRERO 2016.'!O50","v":800000},{"$f":"'[2]02 SICCA FEBRERO 2016.'!P50","v":800000},800000,800000,800000,800000,800000,800000,800000,{"$f":"Q65","v":800000},800000,9600000,800000,10400000]
[null,null,{"$f":"'[7]05 SICCA JUNIO 2016. 1'!G45","v":2495393},{"$f":"'[7]05 SICCA JUNIO 2016. 1'!H45","v":"MIGUEL ANGEL"},{"$f":"'[7]05 SICCA JUNIO 2016. 1'!I45","v":"GIMENEZ"},144,"JORNALES",0,0,0,800000,800000,800000,800000,800000,800000,800000,{"$f":"Q66","v":800000},800000,{"$f":"H66+I66+J66+K66+L66+M66+N66+O66+P66+Q66+R66+S66","v":7200000},600000,{"$f":"T66+U66","v":7800000}]
[null,null,{"$f":"'[1]01 SICCA ENERO 2016.'!G51","v":4429128},{"$f":"'[1]01 SICCA ENERO 2016.'!H51","v":"RAFAEL NICANOR"},{"$f":"'[1]01 SICCA ENERO 2016.'!I51","v":"ACOSTA OCAMPOS"},144,"JORNALES",{"$f":"'[1]01 SICCA ENERO 2016.'!O51","v":800000},{"$f":"'[2]02 SICCA FEBRERO 2016.'!O51","v":800000},{"$f":"'[2]02 SICCA FEBRERO 2016.'!P51","v":800000},800000,800000,800000,800000,800000,800000,800000,{"$f":"Q67","v":800000},800000,9600000,8000000,17600000]
[null,null,{"$f":"'[1]01 SICCA ENERO 2016.'!G52","v":958889},{"$f":"'[1]01 SICCA ENERO 2016.'!H52","v":"CARLOS ISIDRO"},{"$f":"'[1]01 SICCA ENERO 2016.'!I52","v":"BAEZ RODRIGUEZ"},144,"JORNALES",{"$f":"'[1]01 SICCA ENERO 2016.'!O52","v":1800000},{"$f":"'[2]02 SICCA FEBRERO 2016.'!O52","v":800000},{"$f":"'[2]02 SICCA FEBRERO 2016.'!P52","v":800000},0,0,0,0,0,0,0,{"$f":"Q68","v":0},0,3400000,283333,3683333]
[null,null,{"$f":"'[1]01 SICCA ENERO 2016.'!G53","v":1373945},{"$f":"'[1]01 SICCA ENERO 2016.'!H53","v":"DEMETRIO"},{"$f":"'[1]01 SICCA ENERO 2016.'!I53","v":"RAMIREZ COLMAN"},144,"JORNALES",{"$f":"'[1]01 SICCA ENERO 2016.'!O53","v":1800000},{"$f":"'[2]02 SICCA FEBRERO 2016.'!O53","v":1800000},{"$f":"'[2]02 SICCA FEBRERO 2016.'!P53","v":1800000},0,0,0,0,0,0,0,{"$f":"Q69","v":0},0,5400000,450000,5850000]
[null,null,{"$f":"'[1]01 SICCA ENERO 2016.'!G54","v":3183304},{"$f":"'[1]01 SICCA ENERO 2016.'!H54","v":"CARLOS ANTONIO"},{"$f":"'[1]01 SICCA ENERO 2016.'!I54","v":"GRAY AREVALOS"},144,"JORNALES",{"$f":"'[1]01 SICCA ENERO 2016.'!O54","v":1800000},{"$f":"'[2]02 SICCA FEBRERO 2016.'!O54","v":1800000},{"$f":"'[2]02 SICCA FEBRERO 2016.'!P54","v":1800000},0,0,0,0,0,0,0,{"$f":"Q70","v":0},0,5400000,450000,5850000]
[null,null,{"$f":"'[1]01 SICCA ENERO 2016.'!G55","v":3210803},{"$f":"'[1]01 SICCA ENERO 2016.'!H55","v":"MARCIANO"},{"$f":"'[1]01 SICCA ENERO 2016.'!I55","v":"ORZUSA VEGA"},144,"JORNALES",{"$f":"'[1]01 SICCA ENERO 2016.'!O55","v":800000},{"$f":"'[2]02 SICCA FEBRERO 2016.'!O55","v":800000},{"$f":"'[2]02 SICCA FEBRERO 2016.'!P55","v":800000},800000,800000,800000,800000,800000,800000,800000,{"$f":"Q71","v":800000},800000,9600000,800000,10400000]
[null,null,{"$f":"'[1]01 SICCA ENERO 2016.'!G56","v":2532092},{"$f":"'[1]01 SICCA ENERO 2016.'!H56","v":"OSCAR PATROCINIO"},{"$f":"'[1]01 SICCA ENERO 2016.'!I56","v":"BARRIOS GONZALEZ"},144,"JORNALES",{"$f":"'[1]01 SICCA ENERO 2016.'!O56","v":1800000},{"$f":"'[2]02 SICCA FEBRERO 2016.'!O56","v":1800000},{"$f":"'[2]02 SICCA FEBRERO 2016.'!P56","v":1800000},1800000,1800000,1800000,1800000,1800000,1800000,1800000,{"$f":"Q72","v":1800000},1800000,21600000,1800000,23400000]
[null,null,{"$f":"'[1]01 SICCA ENERO 2016.'!G57","v":6163219},{"$f":"'[1]01 SICCA ENERO 2016.'!H57","v":"ARNALDO ANDRES"},{"$f":"'[1]01 SICCA ENERO 2016.'!I57","v":"RAMIREZ PRUDHOME"},144,"JORNALES",{"$f":"'[1]01 SICCA ENERO 2016.'!O57","v":1500000},{"$f":"'[2]02 SICCA FEBRERO 2016.'!O57","v":1500000},{"$f":"'[2]02 SICCA FEBRERO 2016.'!P57","v":1500000},1500000,1500000,1500000,1500000,1500000,1500000,1500000,{"$f":"Q73","v":1500000},1500000,18000000,1500000,19500000]
[null,null,{"$f":"'[1]01 SICCA ENERO 2016.'!G58","v":1854902},{"$f":"'[1]01 SICCA ENERO 2016.'!H58","v":"AVELINO"},{"$f":"'[1]01 SICCA ENERO 2016.'!I58","v":"SERVIN"},144,"JORNALES",{"$f":"'[1]01 SICCA ENERO 2016.'!O58","v":450000},{"$f":"'[2]02 SICCA FEBRERO 2016.'!O58","v":450000},{"$f":"'[2]02 SICCA FEBRERO 2016.'!P58","v":450000},450000,450000,450000,450000,450000,450000,450000,{"$f":"Q74","v":450000},450000,5400000,450000,5850000]
[null,null,{"$f":"'[1]01 SICCA ENERO 2016.'!G59","v":2495426},{"$f":"'[1]01 SICCA ENERO 2016.'!H59","v":"QUINTIN"},{"$f":"'[1]01 SICCA ENERO 2016.'!I59","v":"BAEZ PINTOS"},144,"JORNALES",{"$f":"'[1]01 SICCA ENERO 2016.'!O59","v":200000},{"$f":"'[2]02 SICCA FEBRERO 2016.'!O59","v":200000},{"$f":"'[2]02 SICCA FEBRERO 2016.'!P59","v":200000},200000,200000,200000,200000,200000,200000,200000,{"$f":"Q75","v":200000},200000,2400000,200000,2600000]
[null,null,{"$f":"'[1]01 SICCA ENERO 2016.'!G60","v":1494592},{"$f":"'[1]01 SICCA ENERO 2016.'!H60","v":"BENJAMIN"},{"$f":"'[1]01 SICCA ENERO 2016.'!I60","v":"VELAZQUEZ VILLAR"},144,"JORNALES",{"$f":"'[1]01 SICCA ENERO 2016.'!O60","v":200000},{"$f":"'[2]02 SICCA FEBRERO 2016.'!O60","v":200000},{"$f":"'[2]02 SICCA FEBRERO 2016.'!P60","v":200000},200000,200000,200000,200000,200000,200000,200000,{"$f":"Q76","v":200000},200000,2400000,200000,2600000]
[null,null,{"$f":"'[1]01 SICCA ENERO 2016.'!G61","v":1622456},{"$f":"'[1]01 SICCA ENERO 2016.'!H61","v":"JUAN RAMON"},{"$f":"'[1]01 SICCA ENERO 2016.'!I61","v":"FLORES ALFONZO"},144,"JORNALES",{"$f":"'[1]01 SICCA ENERO 2016.'!O61","v":1800000},{"$f":"'[2]02 SICCA FEBRERO 2016.'!O61","v":1800000},{"$f":"'[2]02 SICCA FEBRERO 2016.'!P61","v":1800000},1800000,1800000,1800000,1800000,1800000,1800000,1800000,{"$f":"Q77","v":1800000},1800000,21600000,1800000,23400000]
[null,null,{"$f":"'[5]05 SICCA JUNIO 2016. 1'!G60","v":3519570},{"$f":"'[5]05 SICCA JUNIO 2016. 1'!H60","v":"WON SUK"},{"$f":"'[5]05 SICCA JUNIO 2016. 1'!I60","v":"CHOI"},145,{"$f":"'[5]05 SICCA JUNIO 2016. 1'!Q60","v":"HONORARIO PROFESIONALEES"},0,0,0,0,0,{"$f":"'[5]05 SICCA JUNIO 2016. 1'!O60","v":4000000},4000000,4000000,4000000,4000000,{"$f":"Q78","v":4000000},4000000,{"$f":"SUM(M78:S78)","v":28000000},2333333,30333333]
[null,null,{"$f":"'[5]05 SICCA JUNIO 2016. 1'!G61","v":2215706},{"$f":"'[5]05 SICCA JUNIO 2016. 1'!H61","v":"CESAR OSVALDO"},{"$f":"'[5]05 SICCA JUNIO 2016. 1'!I61","v":"CANTERO BOGADO"},145,{"$f":"'[5]05 SICCA JUNIO 2016. 1'!Q61","v":"HONORARIO PROFESIONALEES"},0,0,0,0,0,{"$f":"'[5]05 SICCA JUNIO 2016. 1'!O61","v":5500000},{"$f":"M79","v":5500000},5500000,{"$f":"O79","v":5500000},5500000,{"$f":"Q79","v":5500000},5500000,{"$f":"SUM(M79:S79)","v":38500000},3208333,41708333]
[null,null,null,null,null,null,null,null,null,null,null,null,null,null," "," "]
[null,null,null,null,null,null,null,{"$f":"SUM(H15:H80)","v":80050000},79050000,79050000,73050000,73050000,86250000,86250000,88250000,88250000,88250000,88250000,88250000,{"$f":"SUM(H81:S81)","v":998000000},{"$f":"SUM(U15:U80)","v":92948165},{"$f":"SUM(T81:U81)","v":1090948165}]